BEGIN:VCALENDAR
VERSION:2.0
PRODID:-//BSV Elfgen Belmen 1978 e.V. - ECPv6.15.20//NONSGML v1.0//EN
CALSCALE:GREGORIAN
METHOD:PUBLISH
X-WR-CALNAME:BSV Elfgen Belmen 1978 e.V.
X-ORIGINAL-URL:https://www.bsv-elfgen-belmen.de
X-WR-CALDESC:Veranstaltungen für BSV Elfgen Belmen 1978 e.V.
REFRESH-INTERVAL;VALUE=DURATION:PT1H
X-Robots-Tag:noindex
X-PUBLISHED-TTL:PT1H
BEGIN:VTIMEZONE
TZID:UTC
BEGIN:STANDARD
TZOFFSETFROM:+0000
TZOFFSETTO:+0000
TZNAME:UTC
DTSTART:20230101T000000
END:STANDARD
END:VTIMEZONE
BEGIN:VEVENT
DTSTART;VALUE=DATE:20240121
DTEND;VALUE=DATE:20240122
DTSTAMP:20260421T215715
CREATED:20240410T181918Z
LAST-MODIFIED:20240414T183444Z
UID:78-1705795200-1705881599@www.bsv-elfgen-belmen.de
SUMMARY:Matinee Grielächer Orken
DESCRIPTION:
URL:https://www.bsv-elfgen-belmen.de/event/matinee-grielaecher-orken/
CATEGORIES:Auswärtsspiel
END:VEVENT
END:VCALENDAR