BEGIN:VCALENDAR
VERSION:2.0
PRODID:-//BSV Elfgen Belmen 1978 e.V. - ECPv6.15.20//NONSGML v1.0//EN
CALSCALE:GREGORIAN
METHOD:PUBLISH
X-WR-CALNAME:BSV Elfgen Belmen 1978 e.V.
X-ORIGINAL-URL:https://www.bsv-elfgen-belmen.de
X-WR-CALDESC:Veranstaltungen für BSV Elfgen Belmen 1978 e.V.
REFRESH-INTERVAL;VALUE=DURATION:PT1H
X-Robots-Tag:noindex
X-PUBLISHED-TTL:PT1H
BEGIN:VTIMEZONE
TZID:UTC
BEGIN:STANDARD
TZOFFSETFROM:+0000
TZOFFSETTO:+0000
TZNAME:UTC
DTSTART:20230101T000000
END:STANDARD
END:VTIMEZONE
BEGIN:VEVENT
DTSTART;VALUE=DATE:20240517
DTEND;VALUE=DATE:20240518
DTSTAMP:20260421T160124
CREATED:20240410T174637Z
LAST-MODIFIED:20240414T183421Z
UID:95-1715904000-1715990399@www.bsv-elfgen-belmen.de
SUMMARY:Schützenturnier SV Rot-Weiß Elfgen
DESCRIPTION:
URL:https://www.bsv-elfgen-belmen.de/event/schuetzenturnier-sv-rot-weiss-elfgen/
LOCATION:Sportplatz Am Sodbach\, Am Sodbach\, Grevenbroich\, 41515\, Deutschland
CATEGORIES:Heimspiel
END:VEVENT
END:VCALENDAR