BEGIN:VCALENDAR
VERSION:2.0
PRODID:-//BSV Elfgen Belmen 1978 e.V. - ECPv6.15.20//NONSGML v1.0//EN
CALSCALE:GREGORIAN
METHOD:PUBLISH
X-WR-CALNAME:BSV Elfgen Belmen 1978 e.V.
X-ORIGINAL-URL:https://www.bsv-elfgen-belmen.de
X-WR-CALDESC:Veranstaltungen für BSV Elfgen Belmen 1978 e.V.
REFRESH-INTERVAL;VALUE=DURATION:PT1H
X-Robots-Tag:noindex
X-PUBLISHED-TTL:PT1H
BEGIN:VTIMEZONE
TZID:UTC
BEGIN:STANDARD
TZOFFSETFROM:+0000
TZOFFSETTO:+0000
TZNAME:UTC
DTSTART:20230101T000000
END:STANDARD
END:VTIMEZONE
BEGIN:VEVENT
DTSTART;VALUE=DATE:20240727
DTEND;VALUE=DATE:20240731
DTSTAMP:20260421T195443
CREATED:20240410T175529Z
LAST-MODIFIED:20240414T183358Z
UID:111-1722038400-1722383999@www.bsv-elfgen-belmen.de
SUMMARY:Schützenfest Orken
DESCRIPTION:
URL:https://www.bsv-elfgen-belmen.de/event/schuetzenfest-orken/
LOCATION:Kirmesplatz Orken\, Richard-Wagner-Straße 40\, Grevenbroich\, 41515\, Deutschland
CATEGORIES:Auswärtsspiel
END:VEVENT
END:VCALENDAR