BEGIN:VCALENDAR
VERSION:2.0
PRODID:-//BSV Elfgen Belmen 1978 e.V. - ECPv6.15.20//NONSGML v1.0//EN
CALSCALE:GREGORIAN
METHOD:PUBLISH
X-ORIGINAL-URL:https://www.bsv-elfgen-belmen.de
X-WR-CALDESC:Veranstaltungen für BSV Elfgen Belmen 1978 e.V.
REFRESH-INTERVAL;VALUE=DURATION:PT1H
X-Robots-Tag:noindex
X-PUBLISHED-TTL:PT1H
BEGIN:VTIMEZONE
TZID:UTC
BEGIN:STANDARD
TZOFFSETFROM:+0000
TZOFFSETTO:+0000
TZNAME:UTC
DTSTART:20230101T000000
END:STANDARD
END:VTIMEZONE
BEGIN:VTIMEZONE
TZID:Europe/Helsinki
BEGIN:DAYLIGHT
TZOFFSETFROM:+0200
TZOFFSETTO:+0300
TZNAME:EEST
DTSTART:20230326T010000
END:DAYLIGHT
BEGIN:STANDARD
TZOFFSETFROM:+0300
TZOFFSETTO:+0200
TZNAME:EET
DTSTART:20231029T010000
END:STANDARD
BEGIN:DAYLIGHT
TZOFFSETFROM:+0200
TZOFFSETTO:+0300
TZNAME:EEST
DTSTART:20240331T010000
END:DAYLIGHT
BEGIN:STANDARD
TZOFFSETFROM:+0300
TZOFFSETTO:+0200
TZNAME:EET
DTSTART:20241027T010000
END:STANDARD
BEGIN:DAYLIGHT
TZOFFSETFROM:+0200
TZOFFSETTO:+0300
TZNAME:EEST
DTSTART:20250330T010000
END:DAYLIGHT
BEGIN:STANDARD
TZOFFSETFROM:+0300
TZOFFSETTO:+0200
TZNAME:EET
DTSTART:20251026T010000
END:STANDARD
END:VTIMEZONE
BEGIN:VEVENT
DTSTART;VALUE=DATE:20240831
DTEND;VALUE=DATE:20240904
DTSTAMP:20260421T173639
CREATED:20240410T180703Z
LAST-MODIFIED:20240414T183335Z
UID:126-1725062400-1725407999@www.bsv-elfgen-belmen.de
SUMMARY:Schützenfest Grevenbroich
DESCRIPTION:
URL:https://www.bsv-elfgen-belmen.de/event/schuetzenfest-grevenbroich/
LOCATION:Kirmesplatz Grevenbroich\, Platz d. Republik\, Grevenbroich\, 41515\, Deutschland
CATEGORIES:Auswärtsspiel
END:VEVENT
BEGIN:VEVENT
DTSTART;VALUE=DATE:20240913
DTEND;VALUE=DATE:20240916
DTSTAMP:20260421T173639
CREATED:20240410T180842Z
LAST-MODIFIED:20240414T183328Z
UID:130-1726185600-1726444799@www.bsv-elfgen-belmen.de
SUMMARY:Volks- und Heimatfest Laach
DESCRIPTION:
URL:https://www.bsv-elfgen-belmen.de/event/vloks-und-heimatfest-laach/
LOCATION:Kirmesplatz Laach\, Weidenweg 61\, Grevenbroich\, 41515\, Deutschland
CATEGORIES:Auswärtsspiel
END:VEVENT
BEGIN:VEVENT
DTSTART;VALUE=DATE:20240921
DTEND;VALUE=DATE:20240925
DTSTAMP:20260421T173639
CREATED:20240922T075857Z
LAST-MODIFIED:20240922T081427Z
UID:514-1726876800-1727222399@www.bsv-elfgen-belmen.de
SUMMARY:Schützenfest Gustorf
DESCRIPTION:
URL:https://www.bsv-elfgen-belmen.de/event/schuetzenfest-gustorf/
LOCATION:Kirmesplatz Gustorf\, Torfstecherweg 7\, Grevenbroich\, 41517\, Germany
END:VEVENT
END:VCALENDAR